BEGIN:VCALENDAR
VERSION:2.0
PRODID:-//jEvents 2.0 for Joomla//EN
CALSCALE:GREGORIAN
METHOD:PUBLISH
BEGIN:VTIMEZONE
TZID:Europe/Vienna
BEGIN:STANDARD
DTSTART:20251026T020000
RDATE:20260329T030000
TZOFFSETFROM:+0200
TZOFFSETTO:+0100
TZNAME:Europe/Vienna CET
END:STANDARD
BEGIN:STANDARD
DTSTART:20261025T020000
RDATE:20270328T030000
TZOFFSETFROM:+0200
TZOFFSETTO:+0100
TZNAME:Europe/Vienna CET
END:STANDARD
BEGIN:STANDARD
DTSTART:20271031T020000
RDATE:20280326T030000
TZOFFSETFROM:+0200
TZOFFSETTO:+0100
TZNAME:Europe/Vienna CET
END:STANDARD
BEGIN:STANDARD
DTSTART:20281029T020000
RDATE:20290325T030000
TZOFFSETFROM:+0200
TZOFFSETTO:+0100
TZNAME:Europe/Vienna CET
END:STANDARD
BEGIN:STANDARD
DTSTART:20291028T020000
RDATE:20300331T030000
TZOFFSETFROM:+0200
TZOFFSETTO:+0100
TZNAME:Europe/Vienna CET
END:STANDARD
BEGIN:STANDARD
DTSTART:20301027T020000
RDATE:20310330T030000
TZOFFSETFROM:+0200
TZOFFSETTO:+0100
TZNAME:Europe/Vienna CET
END:STANDARD
BEGIN:STANDARD
DTSTART:20311026T020000
RDATE:20320328T030000
TZOFFSETFROM:+0200
TZOFFSETTO:+0100
TZNAME:Europe/Vienna CET
END:STANDARD
BEGIN:DAYLIGHT
DTSTART:20250703T000000
RDATE:20251026T020000
TZOFFSETFROM:+0100
TZOFFSETTO:+0200
TZNAME:Europe/Vienna CEST
END:DAYLIGHT
BEGIN:DAYLIGHT
DTSTART:20260329T030000
RDATE:20261025T020000
TZOFFSETFROM:+0100
TZOFFSETTO:+0200
TZNAME:Europe/Vienna CEST
END:DAYLIGHT
BEGIN:DAYLIGHT
DTSTART:20270328T030000
RDATE:20271031T020000
TZOFFSETFROM:+0100
TZOFFSETTO:+0200
TZNAME:Europe/Vienna CEST
END:DAYLIGHT
BEGIN:DAYLIGHT
DTSTART:20280326T030000
RDATE:20281029T020000
TZOFFSETFROM:+0100
TZOFFSETTO:+0200
TZNAME:Europe/Vienna CEST
END:DAYLIGHT
BEGIN:DAYLIGHT
DTSTART:20290325T030000
RDATE:20291028T020000
TZOFFSETFROM:+0100
TZOFFSETTO:+0200
TZNAME:Europe/Vienna CEST
END:DAYLIGHT
BEGIN:DAYLIGHT
DTSTART:20300331T030000
RDATE:20301027T020000
TZOFFSETFROM:+0100
TZOFFSETTO:+0200
TZNAME:Europe/Vienna CEST
END:DAYLIGHT
BEGIN:DAYLIGHT
DTSTART:20310330T030000
RDATE:20311026T020000
TZOFFSETFROM:+0100
TZOFFSETTO:+0200
TZNAME:Europe/Vienna CEST
END:DAYLIGHT
END:VTIMEZONE
BEGIN:VEVENT
UID:a498086086a91d8784885eb41886a4b4
CATEGORIES:Lauftermine
CREATED:20260417T233850
SUMMARY:Bad Blumau
URL;VALUE=URI:https://ultralaufteam.at/index.php/kalender/Eventdetail/6442/-/bad-blumau?t
 mpl=component
DESCRIPTION:<div class="elementor-element elementor-element-21594a9 elementor-widget el
 ementor-widget-text-editor" data-id="21594a9" data-element_type="widget" da
 ta-e-type="widget" data-widget_type="text-editor.default"><div class="eleme
 ntor-widget-container"><h4><em>Österreichische Staatsmeisterschaften im 24-
 Stundenlauf</em></h4></div></div><div class="elementor-element elementor-el
 ement-f80a9ef elementor-align-center elementor-widget elementor-widget-butt
 on" data-id="f80a9ef" data-element_type="widget" data-e-type="widget" data-
 widget_type="button.default"><div class="elementor-widget-container"><div c
 lass="elementor-button-wrapper"><a class="elementor-button elementor-button
 -link elementor-size-xl" href="https://my.raceresult.com/368439/" target="_
 blank" rel="noopener noreferrer"><span class="elementor-button-content-wrap
 per"><span class="elementor-button-text">Anmeldung 2026</span></span></a></
 div></div></div><div class="elementor-button-wrapper"> </div><div class="el
 ementor-button-wrapper">mit dabei: <a href="https://my.raceresult.com/36843
 9/participants#1_92FE05">https://my.raceresult.com/368439/participants#1_92
 FE05</a></div><div class="elementor-button-wrapper"> </div> <a href="https:
 //ultralaufteam.at/index.php/kalender/Eventdetail/6442/-/bad-blumau?tmpl=co
 mponent">Dieser Event wurde importiert von: https://ultralaufteam.at/index.
 php/kalender/Eventdetail/6442/-/bad-blumau?tmpl=component</a>DTSTAMP:20260424T103745
DTSTART;TZID=Europe/Vienna;VALUE=DATE:20260704
DTEND;TZID=Europe/Vienna;VALUE=DATE:20260706
SEQUENCE:0
TRANSP:OPAQUE
END:VEVENT
END:VCALENDAR