BEGIN:VCALENDAR
VERSION:2.0
PRODID:-//jEvents 2.0 for Joomla//EN
CALSCALE:GREGORIAN
METHOD:PUBLISH
BEGIN:VTIMEZONE
TZID:Europe/Vienna
BEGIN:STANDARD
DTSTART:20251026T020000
RDATE:20260329T030000
TZOFFSETFROM:+0200
TZOFFSETTO:+0100
TZNAME:Europe/Vienna CET
END:STANDARD
BEGIN:STANDARD
DTSTART:20261025T020000
RDATE:20270328T030000
TZOFFSETFROM:+0200
TZOFFSETTO:+0100
TZNAME:Europe/Vienna CET
END:STANDARD
BEGIN:STANDARD
DTSTART:20271031T020000
RDATE:20280326T030000
TZOFFSETFROM:+0200
TZOFFSETTO:+0100
TZNAME:Europe/Vienna CET
END:STANDARD
BEGIN:STANDARD
DTSTART:20281029T020000
RDATE:20290325T030000
TZOFFSETFROM:+0200
TZOFFSETTO:+0100
TZNAME:Europe/Vienna CET
END:STANDARD
BEGIN:STANDARD
DTSTART:20291028T020000
RDATE:20300331T030000
TZOFFSETFROM:+0200
TZOFFSETTO:+0100
TZNAME:Europe/Vienna CET
END:STANDARD
BEGIN:STANDARD
DTSTART:20301027T020000
RDATE:20310330T030000
TZOFFSETFROM:+0200
TZOFFSETTO:+0100
TZNAME:Europe/Vienna CET
END:STANDARD
BEGIN:STANDARD
DTSTART:20311026T020000
RDATE:20320328T030000
TZOFFSETFROM:+0200
TZOFFSETTO:+0100
TZNAME:Europe/Vienna CET
END:STANDARD
BEGIN:DAYLIGHT
DTSTART:20250530T000000
RDATE:20251026T020000
TZOFFSETFROM:+0100
TZOFFSETTO:+0200
TZNAME:Europe/Vienna CEST
END:DAYLIGHT
BEGIN:DAYLIGHT
DTSTART:20260329T030000
RDATE:20261025T020000
TZOFFSETFROM:+0100
TZOFFSETTO:+0200
TZNAME:Europe/Vienna CEST
END:DAYLIGHT
BEGIN:DAYLIGHT
DTSTART:20270328T030000
RDATE:20271031T020000
TZOFFSETFROM:+0100
TZOFFSETTO:+0200
TZNAME:Europe/Vienna CEST
END:DAYLIGHT
BEGIN:DAYLIGHT
DTSTART:20280326T030000
RDATE:20281029T020000
TZOFFSETFROM:+0100
TZOFFSETTO:+0200
TZNAME:Europe/Vienna CEST
END:DAYLIGHT
BEGIN:DAYLIGHT
DTSTART:20290325T030000
RDATE:20291028T020000
TZOFFSETFROM:+0100
TZOFFSETTO:+0200
TZNAME:Europe/Vienna CEST
END:DAYLIGHT
BEGIN:DAYLIGHT
DTSTART:20300331T030000
RDATE:20301027T020000
TZOFFSETFROM:+0100
TZOFFSETTO:+0200
TZNAME:Europe/Vienna CEST
END:DAYLIGHT
BEGIN:DAYLIGHT
DTSTART:20310330T030000
RDATE:20311026T020000
TZOFFSETFROM:+0100
TZOFFSETTO:+0200
TZNAME:Europe/Vienna CEST
END:DAYLIGHT
END:VTIMEZONE
BEGIN:VEVENT
UID:4aa3a20c577b123d08bf195cf850a604
CATEGORIES:Lauftermine
CREATED:20260417T234947
SUMMARY:Golser Weinbergmarathon
LOCATION:https://www.google.com/maps/d/u/3/viewer?mid=1czV9vM-IWxtQZ4qNIZ0TsSzJ8goVC
 s4&amp;ll=47.905521470958206%2C16.93833499999999&amp;
URL;VALUE=URI:https://ultralaufteam.at/index.php/kalender/Eventdetail/6443/-/golser-weinb
 ergmarathon?tmpl=component
DESCRIPTION:<p><b><span lang="DE-AT" xml:lang="DE-AT">Startnummernausgabe</span></b><sp
 an lang="DE-AT" xml:lang="DE-AT"> ab 7:00 Uhr bis 30 Minuten vor dem jeweil
 igen Wettbewerb</span></p><p><b><span lang="DE-AT" xml:lang="DE-AT">Briefin
 g </span></b><span lang="DE-AT" xml:lang="DE-AT">(alle Bewerbe): 08:45 Uhr<
 /span></p><p><b><span lang="DE-AT" xml:lang="DE-AT">Start/Ziel</span></b><s
 pan lang="DE-AT" xml:lang="DE-AT">: </span><span lang="DE-AT" xml:lang="DE-
 AT"><a href="https://goo.gl/maps/bbgsLGqCMMZpdCCb6" target="_blank" rel="no
 opener">Volksfestgelände Gols</a></span></p><p><b><span lang="DE-AT" xml:la
 ng="DE-AT">Marathon </span></b><span lang="DE-AT" xml:lang="DE-AT">9:00 Uhr
 </span></p><p><b><span lang="DE-AT" xml:lang="DE-AT">Halbmarathon </span></
 b><span lang="DE-AT" xml:lang="DE-AT">9:30 Uhr</span></p><p><b><span lang="
 DE-AT" xml:lang="DE-AT">Siegerehrung HM</span></b><span lang="DE-AT" xml:la
 ng="DE-AT"> ca. 12:30 Uhr</span></p><p><b><span lang="DE-AT" xml:lang="DE-A
 T">Siegerehrung M</span></b><span lang="DE-AT" xml:lang="DE-AT"> ca. 14:00 
 Uhr</span></p><p><b><span lang="DE-AT" xml:lang="DE-AT">Zielschluss </span>
 </b><span lang="DE-AT" xml:lang="DE-AT">15:00 Uhr</span></p><p> </p><p><b><
 span lang="DE-AT" xml:lang="DE-AT">Startgelder</span></b></p><p><b><span la
 ng="DE-AT" xml:lang="DE-AT">Marathon </span></b></p><p><span lang="DE-AT" x
 ml:lang="DE-AT">01.10.2025 - 28.02.2026: € 60,-</span></p><p><span lang="DE
 -AT" xml:lang="DE-AT">01.03.2026 - 17.05.2026: € 70,-</span></p><p><span la
 ng="DE-AT" xml:lang="DE-AT">Nachnennung Samstag, 30.05.2026, 17:00-19:00 Uh
 r: € 80,-</span></p><p><b><span lang="DE-AT" xml:lang="DE-AT">Halbmarathon<
 /span></b></p><p><span lang="DE-AT" xml:lang="DE-AT">01.10.2025 - 28.02.202
 6: € 40,-</span></p><p><span lang="DE-AT" xml:lang="DE-AT">01.03.2026 - 17.
 05.2026: € 50,-</span></p><p><span lang="DE-AT" xml:lang="DE-AT">Nachnennun
 g Samstag, 30.05.2026, 17:00-19:00 Uhr: € 60,-</span></p><p> </p><p><strong
 >Personalisierte Startnummern</strong> sowie Startersackerl und Teilnehmers
 hirt</p><p> </p><p><b><span lang="DE-AT" xml:lang="DE-AT">Anmeldeschluss</s
 pan></b><span lang="DE-AT" xml:lang="DE-AT">: Sonntag 17. Mai 2026 23:59 Uh
 r</span></p><p><strong><span lang="DE-AT" xml:lang="DE-AT">Nachnennung:</sp
 an></strong> <span lang="DE-AT" xml:lang="DE-AT">möglich</span><span lang="
 DE-AT" xml:lang="DE-AT">, </span><span lang="DE-AT" xml:lang="DE-AT">nur am
  Samstag, 30.05.2026 17:00-19:00 Uhr bei der Startnummernausgabe</span></p>
 <p> Bei Nachnennung gibt es <b>KEIN</b> Startersackerl und <b>KEIN</b> T-Sh
 irt!</p> <a href="https://ultralaufteam.at/index.php/kalender/Eventdetail/6
 443/-/golser-weinbergmarathon?tmpl=component">Dieser Event wurde importiert
  von: https://ultralaufteam.at/index.php/kalender/Eventdetail/6443/-/golser
 -weinbergmarathon?tmpl=component</a>CONTACT:https://golser-weinbergmarathon.jimdofree.com/
DTSTAMP:20260424T103449
DTSTART;TZID=Europe/Vienna;VALUE=DATE:20260531
DTEND;TZID=Europe/Vienna;VALUE=DATE:20260601
SEQUENCE:0
TRANSP:OPAQUE
END:VEVENT
END:VCALENDAR